BEGIN:VCALENDAR
VERSION:2.0
PRODID:-//Squarespace Inc/Squarespace 6//v6//EN
BEGIN:VEVENT
UID:5b4e5e34758d46cb658d8ccf@squarespace.com
DTSTAMP:20180829T204121Z
DTSTART:20190309T203000Z
DTEND:20190309T213000Z
SUMMARY:GC Enduro #3: Port Hills Enduro Expert
END:VEVENT
END:VCALENDAR
