BEGIN:VCALENDAR
VERSION:2.0
PRODID:-//Squarespace Inc/Squarespace 6//v6//EN
BEGIN:VEVENT
UID:5b4e5dfdf950b7d650606afb@squarespace.com
DTSTAMP:20180717T212243Z
DTSTART:20190215T203000Z
DTEND:20190215T213000Z
SUMMARY:EWS Continental Series at CAP
END:VEVENT
END:VCALENDAR
