BEGIN:VCALENDAR
VERSION:2.0
PRODID:-//Squarespace Inc/Squarespace 6//v6//EN
BEGIN:VEVENT
UID:5b4e59056d2a73cd54d08b7f@squarespace.com
DTSTAMP:20180717T210241Z
DTSTART:20180803T213000Z
DTEND:20180803T223000Z
SUMMARY:CAP Enduro
END:VEVENT
END:VCALENDAR
