BEGIN:VCALENDAR
VERSION:2.0
PRODID:-//Squarespace Inc/Squarespace 6//v6//EN
BEGIN:VEVENT
UID:5b4e59de1ae6cf086c4467c2@squarespace.com
DTSTAMP:20180717T210457Z
DTSTART:20180825T213000Z
DTEND:20180825T223000Z
SUMMARY:GC Skills Clinic
END:VEVENT
END:VCALENDAR
