BEGIN:VCALENDAR
VERSION:2.0
PRODID:-//Squarespace Inc/Squarespace 6//v6//EN
BEGIN:VEVENT
UID:5b4e5d05f950b7d650601f8d@squarespace.com
DTSTAMP:20180717T211850Z
DTSTART:20181207T203000Z
DTEND:20181208T213000Z
SUMMARY:Enduro #2: Craigieburn (Dec 8-9)
END:VEVENT
END:VCALENDAR
