BEGIN:VCALENDAR
VERSION:2.0
PRODID:-//Squarespace Inc/Squarespace 6//v6//EN
BEGIN:VEVENT
UID:5b7b35b640ec9a9bc89faf51@squarespace.com
DTSTAMP:20180820T214359Z
DTSTART:20181102T210000Z
DTEND:20181102T220000Z
SUMMARY:Girls on Dirt *Choose Your Track* Downhill
END:VEVENT
END:VCALENDAR
