BEGIN:VCALENDAR
VERSION:2.0
PRODID:-//Squarespace Inc/Squarespace 6//v6//EN
BEGIN:VEVENT
UID:5981488cb8a79b2937980bf0@squarespace.com
DTSTAMP:20170905T072735Z
DTSTART:20170909T210000Z
DTEND:20170910T000000Z
SUMMARY:Skills Clinic 
END:VEVENT
END:VCALENDAR
