BEGIN:VCALENDAR
VERSION:2.0
PRODID:-//Squarespace Inc/Squarespace 6//v6//EN
BEGIN:VEVENT
UID:598144e9414fb5f08fbb9ad7@squarespace.com
DTSTAMP:20171107T011116Z
DTSTART:20171125T193000Z
DTEND:20171126T030000Z
SUMMARY:GC Enduro Round 1 - Port Hills
END:VEVENT
END:VCALENDAR
