BEGIN:VCALENDAR
VERSION:2.0
PRODID:-//Squarespace Inc/Squarespace 6//v6//EN
BEGIN:VEVENT
UID:5a0b41f98165f5a7d05585b1@squarespace.com
DTSTAMP:20171114T192149Z
DTSTART:20171121T060000Z
DTEND:20171121T070000Z
SUMMARY:Financial Report Meeting
END:VEVENT
END:VCALENDAR
