BEGIN:VCALENDAR
VERSION:2.0
PRODID:-//Squarespace Inc/Squarespace 6//v6//EN
BEGIN:VEVENT
UID:5a01090841920244caeb970a@squarespace.com
DTSTAMP:20171107T011712Z
DTSTART:20171110T200000Z
DTEND:20171110T233000Z
SUMMARY:Dig Day
END:VEVENT
END:VCALENDAR
