BEGIN:VCALENDAR
VERSION:2.0
PRODID:-//Squarespace Inc/Squarespace 6//v6//EN
BEGIN:VEVENT
UID:59814c3246c3c4c73ce943dc@squarespace.com
DTSTAMP:20170802T035626Z
DTSTART:20171027T200000Z
DTEND:20171028T020000Z
SUMMARY:GC's Girls on Dirt Women's Enduro
END:VEVENT
END:VCALENDAR
