BEGIN:VCALENDAR
VERSION:2.0
PRODID:-//Squarespace Inc/Squarespace 6//v6//EN
BEGIN:VEVENT
UID:59814ab03a041103d79824ce@squarespace.com
DTSTAMP:20170823T210621Z
DTSTART:20171021T200000Z
DTEND:20171022T030000Z
SUMMARY:GC Summer Series DH #1 & Shuttle Day
END:VEVENT
END:VCALENDAR
